BEGIN:VCALENDAR
VERSION:2.0
PRODID:-//Ortsgemeinde Fensdorf - ECPv6.15.20//NONSGML v1.0//EN
CALSCALE:GREGORIAN
METHOD:PUBLISH
X-ORIGINAL-URL:https://fensdorf.de
X-WR-CALDESC:Veranstaltungen für Ortsgemeinde Fensdorf
REFRESH-INTERVAL;VALUE=DURATION:PT1H
X-Robots-Tag:noindex
X-PUBLISHED-TTL:PT1H
BEGIN:VTIMEZONE
TZID:UTC
BEGIN:STANDARD
TZOFFSETFROM:+0000
TZOFFSETTO:+0000
TZNAME:UTC
DTSTART:20250101T000000
END:STANDARD
END:VTIMEZONE
BEGIN:VEVENT
DTSTART;TZID=UTC:20260430T180000
DTEND;TZID=UTC:20260430T180000
DTSTAMP:20260425T145515
CREATED:20260327T145318Z
LAST-MODIFIED:20260327T145345Z
UID:3148-1777572000-1777572000@fensdorf.de
SUMMARY:Fensdorfer Maifeier
DESCRIPTION:Screenshot
URL:https://fensdorf.de/veranstaltung/fensdorfer-maifeier-2
LOCATION:Bürgerhaus Fensdorf
CATEGORIES:Belegungsplan,Veranstaltungen
END:VEVENT
END:VCALENDAR