BEGIN:VCALENDAR
VERSION:2.0
PRODID:-//Ortsgemeinde Fensdorf - ECPv6.15.20//NONSGML v1.0//EN
CALSCALE:GREGORIAN
METHOD:PUBLISH
X-WR-CALNAME:Ortsgemeinde Fensdorf
X-ORIGINAL-URL:https://fensdorf.de
X-WR-CALDESC:Veranstaltungen für Ortsgemeinde Fensdorf
REFRESH-INTERVAL;VALUE=DURATION:PT1H
X-Robots-Tag:noindex
X-PUBLISHED-TTL:PT1H
BEGIN:VTIMEZONE
TZID:UTC
BEGIN:STANDARD
TZOFFSETFROM:+0000
TZOFFSETTO:+0000
TZNAME:UTC
DTSTART:20250101T000000
END:STANDARD
END:VTIMEZONE
BEGIN:VEVENT
DTSTART;VALUE=DATE:20260712
DTEND;VALUE=DATE:20260713
DTSTAMP:20260425T194722
CREATED:20260212T111359Z
LAST-MODIFIED:20260212T111359Z
UID:3115-1783814400-1783900799@fensdorf.de
SUMMARY:Vermietung
DESCRIPTION:
URL:https://fensdorf.de/veranstaltung/vermietung-8
CATEGORIES:Belegungsplan
END:VEVENT
BEGIN:VEVENT
DTSTART;VALUE=DATE:20260717
DTEND;VALUE=DATE:20260718
DTSTAMP:20260425T194722
CREATED:20260325T194102Z
LAST-MODIFIED:20260325T194224Z
UID:3142-1784246400-1784332799@fensdorf.de
SUMMARY:Vermietung Backes
DESCRIPTION:
URL:https://fensdorf.de/veranstaltung/vermietung-backes-3
CATEGORIES:Belegungsplan
END:VEVENT
BEGIN:VEVENT
DTSTART;VALUE=DATE:20260725
DTEND;VALUE=DATE:20260726
DTSTAMP:20260425T194722
CREATED:20260219T153054Z
LAST-MODIFIED:20260407T114044Z
UID:3126-1784937600-1785023999@fensdorf.de
SUMMARY:Vermietung
DESCRIPTION:
URL:https://fensdorf.de/veranstaltung/vermietung-6
CATEGORIES:Belegungsplan
END:VEVENT
END:VCALENDAR