BEGIN:VCALENDAR
VERSION:2.0
PRODID:-//Ortsgemeinde Fensdorf - ECPv6.15.20//NONSGML v1.0//EN
CALSCALE:GREGORIAN
METHOD:PUBLISH
X-ORIGINAL-URL:https://fensdorf.de
X-WR-CALDESC:Veranstaltungen für Ortsgemeinde Fensdorf
REFRESH-INTERVAL;VALUE=DURATION:PT1H
X-Robots-Tag:noindex
X-PUBLISHED-TTL:PT1H
BEGIN:VTIMEZONE
TZID:UTC
BEGIN:STANDARD
TZOFFSETFROM:+0000
TZOFFSETTO:+0000
TZNAME:UTC
DTSTART:20250101T000000
END:STANDARD
END:VTIMEZONE
BEGIN:VEVENT
DTSTART;VALUE=DATE:20260612
DTEND;VALUE=DATE:20260613
DTSTAMP:20260425T181805
CREATED:20260325T205719Z
LAST-MODIFIED:20260325T205719Z
UID:3145-1781222400-1781308799@fensdorf.de
SUMMARY:Vermietung Backes
DESCRIPTION: 
URL:https://fensdorf.de/veranstaltung/vermietung-backes-4
CATEGORIES:Belegungsplan
END:VEVENT
BEGIN:VEVENT
DTSTART;TZID=UTC:20260614T180000
DTEND;TZID=UTC:20260614T180000
DTSTAMP:20260425T181805
CREATED:20260417T053446Z
LAST-MODIFIED:20260417T053446Z
UID:3169-1781460000-1781460000@fensdorf.de
SUMMARY:Kästchenleerung
DESCRIPTION: 
URL:https://fensdorf.de/veranstaltung/kaestchenleerung
CATEGORIES:Belegungsplan
END:VEVENT
BEGIN:VEVENT
DTSTART;VALUE=DATE:20260619
DTEND;VALUE=DATE:20260620
DTSTAMP:20260425T181805
CREATED:20260124T214541Z
LAST-MODIFIED:20260124T214701Z
UID:3012-1781827200-1781913599@fensdorf.de
SUMMARY:Vermietung Backes
DESCRIPTION:
URL:https://fensdorf.de/veranstaltung/vermietung-4
CATEGORIES:Belegungsplan
END:VEVENT
BEGIN:VEVENT
DTSTART;TZID=UTC:20260620T140000
DTEND;TZID=UTC:20260620T140000
DTSTAMP:20260425T181805
CREATED:20251109T175455Z
LAST-MODIFIED:20260124T212912Z
UID:2926-1781964000-1781964000@fensdorf.de
SUMMARY:Bierwanderung der Prinzengarde Fensdorf
DESCRIPTION:Screenshot
URL:https://fensdorf.de/veranstaltung/bierwanderung-der-prinzengarde-fensdorf
LOCATION:Bürgerhaus Fensdorf
CATEGORIES:Belegungsplan,Veranstaltungen
END:VEVENT
END:VCALENDAR