BEGIN:VCALENDAR
VERSION:2.0
PRODID:-//Ortsgemeinde Fensdorf - ECPv6.15.20//NONSGML v1.0//EN
CALSCALE:GREGORIAN
METHOD:PUBLISH
X-ORIGINAL-URL:https://fensdorf.de
X-WR-CALDESC:Veranstaltungen für Ortsgemeinde Fensdorf
REFRESH-INTERVAL;VALUE=DURATION:PT1H
X-Robots-Tag:noindex
X-PUBLISHED-TTL:PT1H
BEGIN:VTIMEZONE
TZID:UTC
BEGIN:STANDARD
TZOFFSETFROM:+0000
TZOFFSETTO:+0000
TZNAME:UTC
DTSTART:20250101T000000
END:STANDARD
END:VTIMEZONE
BEGIN:VEVENT
DTSTART;TZID=UTC:20260503T110000
DTEND;TZID=UTC:20260503T110000
DTSTAMP:20260425T163528
CREATED:20260124T214336Z
LAST-MODIFIED:20260124T214336Z
UID:3008-1777806000-1777806000@fensdorf.de
SUMMARY:Biergarteneröffnung
DESCRIPTION:
URL:https://fensdorf.de/veranstaltung/biergarteneroeffnung-3
LOCATION:Bürgerhaus Fensdorf
CATEGORIES:Belegungsplan,Veranstaltungen
END:VEVENT
BEGIN:VEVENT
DTSTART;VALUE=DATE:20260522
DTEND;VALUE=DATE:20260523
DTSTAMP:20260425T163528
CREATED:20260315T201834Z
LAST-MODIFIED:20260315T202128Z
UID:3140-1779408000-1779494399@fensdorf.de
SUMMARY:Vermietung Backes
DESCRIPTION:
URL:https://fensdorf.de/veranstaltung/vermietung-backes-2
CATEGORIES:Belegungsplan
END:VEVENT
BEGIN:VEVENT
DTSTART;TZID=UTC:20260526T160000
DTEND;TZID=UTC:20260526T160000
DTSTAMP:20260425T163528
CREATED:20260415T111732Z
LAST-MODIFIED:20260417T131156Z
UID:3167-1779811200-1779811200@fensdorf.de
SUMMARY:Mai-Andacht
DESCRIPTION:
URL:https://fensdorf.de/veranstaltung/marienandacht
CATEGORIES:Belegungsplan
END:VEVENT
BEGIN:VEVENT
DTSTART;TZID=UTC:20260529T160000
DTEND;TZID=UTC:20260529T160000
DTSTAMP:20260425T163528
CREATED:20260417T131343Z
LAST-MODIFIED:20260417T131343Z
UID:3173-1780070400-1780070400@fensdorf.de
SUMMARY:Vermietung
DESCRIPTION:
URL:https://fensdorf.de/veranstaltung/vermietung-3
CATEGORIES:Belegungsplan
END:VEVENT
END:VCALENDAR