BEGIN:VCALENDAR
VERSION:2.0
PRODID:-//Ortsgemeinde Fensdorf - ECPv6.15.20//NONSGML v1.0//EN
CALSCALE:GREGORIAN
METHOD:PUBLISH
X-WR-CALNAME:Ortsgemeinde Fensdorf
X-ORIGINAL-URL:https://fensdorf.de
X-WR-CALDESC:Veranstaltungen für Ortsgemeinde Fensdorf
REFRESH-INTERVAL;VALUE=DURATION:PT1H
X-Robots-Tag:noindex
X-PUBLISHED-TTL:PT1H
BEGIN:VTIMEZONE
TZID:UTC
BEGIN:STANDARD
TZOFFSETFROM:+0000
TZOFFSETTO:+0000
TZNAME:UTC
DTSTART:20250101T000000
END:STANDARD
END:VTIMEZONE
BEGIN:VEVENT
DTSTART;TZID=UTC:20260310T160000
DTEND;TZID=UTC:20260310T160000
DTSTAMP:20260425T163405
CREATED:20260223T162612Z
LAST-MODIFIED:20260223T162612Z
UID:3128-1773158400-1773158400@fensdorf.de
SUMMARY:Vermietung
DESCRIPTION:
URL:https://fensdorf.de/veranstaltung/vermietung-9
CATEGORIES:Belegungsplan
END:VEVENT
BEGIN:VEVENT
DTSTART;TZID=UTC:20260311T190000
DTEND;TZID=UTC:20260311T190000
DTSTAMP:20260425T163405
CREATED:20260124T213612Z
LAST-MODIFIED:20260124T213612Z
UID:2998-1773255600-1773255600@fensdorf.de
SUMMARY:Ortsgemeinderatssitzung
DESCRIPTION:
URL:https://fensdorf.de/veranstaltung/ortsgemeinderatssitzung-2
CATEGORIES:Belegungsplan
END:VEVENT
BEGIN:VEVENT
DTSTART;VALUE=DATE:20260314
DTEND;VALUE=DATE:20260315
DTSTAMP:20260425T163405
CREATED:20260226T174641Z
LAST-MODIFIED:20260226T174641Z
UID:3131-1773446400-1773532799@fensdorf.de
SUMMARY:Vermietung
DESCRIPTION:
URL:https://fensdorf.de/veranstaltung/vermietung-10
CATEGORIES:Belegungsplan
END:VEVENT
BEGIN:VEVENT
DTSTART;TZID=UTC:20260318T180000
DTEND;TZID=UTC:20260318T220000
DTSTAMP:20260425T163405
CREATED:20260213T115220Z
LAST-MODIFIED:20260213T115220Z
UID:3117-1773856800-1773871200@fensdorf.de
SUMMARY:Jahreshauptversammlung Waldinteressenten
DESCRIPTION:
URL:https://fensdorf.de/veranstaltung/jahreshauptversammlung-waldinteressenten
LOCATION:Bürgerhaus Fensdorf
CATEGORIES:Belegungsplan,Veranstaltungen
END:VEVENT
BEGIN:VEVENT
DTSTART;TZID=UTC:20260322T080000
DTEND;TZID=UTC:20260322T180000
DTSTAMP:20260425T163405
CREATED:20260124T213712Z
LAST-MODIFIED:20260124T213822Z
UID:3000-1774166400-1774202400@fensdorf.de
SUMMARY:Landtagswahl
DESCRIPTION: 
URL:https://fensdorf.de/veranstaltung/landtagswahl
CATEGORIES:Belegungsplan
END:VEVENT
BEGIN:VEVENT
DTSTART;TZID=UTC:20260328T100000
DTEND;TZID=UTC:20260328T130000
DTSTAMP:20260425T163405
CREATED:20260327T173949Z
LAST-MODIFIED:20260327T173949Z
UID:3152-1774692000-1774702800@fensdorf.de
SUMMARY:Aktion Saubere Landschaft
DESCRIPTION:
URL:https://fensdorf.de/veranstaltung/aktion-saubere-landschaft
LOCATION:Gebiet der Ortsgemeinde
CATEGORIES:Veranstaltungen
END:VEVENT
BEGIN:VEVENT
DTSTART;TZID=UTC:20260328T190000
DTEND;TZID=UTC:20260328T190000
DTSTAMP:20260425T163405
CREATED:20260124T213805Z
LAST-MODIFIED:20260217T101953Z
UID:3002-1774724400-1774724400@fensdorf.de
SUMMARY:Rock Night Fensdorf
DESCRIPTION:Screenshot
URL:https://fensdorf.de/veranstaltung/konzert-damn-it-2
LOCATION:Bürgerhaus Fensdorf
CATEGORIES:Belegungsplan,Veranstaltungen
END:VEVENT
END:VCALENDAR