BEGIN:VCALENDAR
VERSION:2.0
PRODID:-//Ortsgemeinde Fensdorf - ECPv6.15.20//NONSGML v1.0//EN
CALSCALE:GREGORIAN
METHOD:PUBLISH
X-WR-CALNAME:Ortsgemeinde Fensdorf
X-ORIGINAL-URL:https://fensdorf.de
X-WR-CALDESC:Veranstaltungen für Ortsgemeinde Fensdorf
REFRESH-INTERVAL;VALUE=DURATION:PT1H
X-Robots-Tag:noindex
X-PUBLISHED-TTL:PT1H
BEGIN:VTIMEZONE
TZID:UTC
BEGIN:STANDARD
TZOFFSETFROM:+0000
TZOFFSETTO:+0000
TZNAME:UTC
DTSTART:20240101T000000
END:STANDARD
END:VTIMEZONE
BEGIN:VEVENT
DTSTART;TZID=UTC:20260418T150000
DTEND;TZID=UTC:20260418T150000
DTSTAMP:20260425T194657
CREATED:20260124T214118Z
LAST-MODIFIED:20260124T214211Z
UID:3006-1776524400-1776524400@fensdorf.de
SUMMARY:Seniorennachmittag
DESCRIPTION:
URL:https://fensdorf.de/veranstaltung/seniorennachmittag-2
LOCATION:Bürgerhaus Fensdorf
CATEGORIES:Belegungsplan,Veranstaltungen
END:VEVENT
BEGIN:VEVENT
DTSTART;TZID=UTC:20260417T183000
DTEND;TZID=UTC:20260417T183000
DTSTAMP:20260425T194657
CREATED:20260130T181656Z
LAST-MODIFIED:20260130T181656Z
UID:3106-1776450600-1776450600@fensdorf.de
SUMMARY:JHV Hegering Wissen
DESCRIPTION:
URL:https://fensdorf.de/veranstaltung/jhv-hegering-wissen
CATEGORIES:Belegungsplan
END:VEVENT
BEGIN:VEVENT
DTSTART;VALUE=DATE:20260412
DTEND;VALUE=DATE:20260414
DTSTAMP:20260425T194657
CREATED:20260124T213931Z
LAST-MODIFIED:20260124T213931Z
UID:3004-1775952000-1776124799@fensdorf.de
SUMMARY:Vermietung
DESCRIPTION: 
URL:https://fensdorf.de/veranstaltung/vermietung-2
CATEGORIES:Belegungsplan
END:VEVENT
BEGIN:VEVENT
DTSTART;TZID=UTC:20260328T190000
DTEND;TZID=UTC:20260328T190000
DTSTAMP:20260425T194657
CREATED:20260124T213805Z
LAST-MODIFIED:20260217T101953Z
UID:3002-1774724400-1774724400@fensdorf.de
SUMMARY:Rock Night Fensdorf
DESCRIPTION:Screenshot
URL:https://fensdorf.de/veranstaltung/konzert-damn-it-2
LOCATION:Bürgerhaus Fensdorf
CATEGORIES:Belegungsplan,Veranstaltungen
END:VEVENT
BEGIN:VEVENT
DTSTART;TZID=UTC:20260328T100000
DTEND;TZID=UTC:20260328T130000
DTSTAMP:20260425T194657
CREATED:20260327T173949Z
LAST-MODIFIED:20260327T173949Z
UID:3152-1774692000-1774702800@fensdorf.de
SUMMARY:Aktion Saubere Landschaft
DESCRIPTION:
URL:https://fensdorf.de/veranstaltung/aktion-saubere-landschaft
LOCATION:Gebiet der Ortsgemeinde
CATEGORIES:Veranstaltungen
END:VEVENT
BEGIN:VEVENT
DTSTART;TZID=UTC:20260322T080000
DTEND;TZID=UTC:20260322T180000
DTSTAMP:20260425T194657
CREATED:20260124T213712Z
LAST-MODIFIED:20260124T213822Z
UID:3000-1774166400-1774202400@fensdorf.de
SUMMARY:Landtagswahl
DESCRIPTION: 
URL:https://fensdorf.de/veranstaltung/landtagswahl
CATEGORIES:Belegungsplan
END:VEVENT
BEGIN:VEVENT
DTSTART;TZID=UTC:20260318T180000
DTEND;TZID=UTC:20260318T220000
DTSTAMP:20260425T194657
CREATED:20260213T115220Z
LAST-MODIFIED:20260213T115220Z
UID:3117-1773856800-1773871200@fensdorf.de
SUMMARY:Jahreshauptversammlung Waldinteressenten
DESCRIPTION:
URL:https://fensdorf.de/veranstaltung/jahreshauptversammlung-waldinteressenten
LOCATION:Bürgerhaus Fensdorf
CATEGORIES:Belegungsplan,Veranstaltungen
END:VEVENT
BEGIN:VEVENT
DTSTART;VALUE=DATE:20260314
DTEND;VALUE=DATE:20260315
DTSTAMP:20260425T194657
CREATED:20260226T174641Z
LAST-MODIFIED:20260226T174641Z
UID:3131-1773446400-1773532799@fensdorf.de
SUMMARY:Vermietung
DESCRIPTION:
URL:https://fensdorf.de/veranstaltung/vermietung-10
CATEGORIES:Belegungsplan
END:VEVENT
BEGIN:VEVENT
DTSTART;TZID=UTC:20260311T190000
DTEND;TZID=UTC:20260311T190000
DTSTAMP:20260425T194657
CREATED:20260124T213612Z
LAST-MODIFIED:20260124T213612Z
UID:2998-1773255600-1773255600@fensdorf.de
SUMMARY:Ortsgemeinderatssitzung
DESCRIPTION:
URL:https://fensdorf.de/veranstaltung/ortsgemeinderatssitzung-2
CATEGORIES:Belegungsplan
END:VEVENT
BEGIN:VEVENT
DTSTART;TZID=UTC:20260310T160000
DTEND;TZID=UTC:20260310T160000
DTSTAMP:20260425T194657
CREATED:20260223T162612Z
LAST-MODIFIED:20260223T162612Z
UID:3128-1773158400-1773158400@fensdorf.de
SUMMARY:Vermietung
DESCRIPTION:
URL:https://fensdorf.de/veranstaltung/vermietung-9
CATEGORIES:Belegungsplan
END:VEVENT
BEGIN:VEVENT
DTSTART;VALUE=DATE:20260227
DTEND;VALUE=DATE:20260228
DTSTAMP:20260425T194657
CREATED:20260124T213242Z
LAST-MODIFIED:20260124T213242Z
UID:2991-1772150400-1772236799@fensdorf.de
SUMMARY:Vermietung
DESCRIPTION:
URL:https://fensdorf.de/veranstaltung/vermietung
CATEGORIES:Belegungsplan
END:VEVENT
BEGIN:VEVENT
DTSTART;TZID=UTC:20260225T190000
DTEND;TZID=UTC:20260225T190000
DTSTAMP:20260425T194657
CREATED:20260124T213153Z
LAST-MODIFIED:20260205T185133Z
UID:2989-1772046000-1772046000@fensdorf.de
SUMMARY:Besprechung Gemeinderat
DESCRIPTION:
URL:https://fensdorf.de/veranstaltung/besprechung-gemeinderat
CATEGORIES:Belegungsplan
END:VEVENT
BEGIN:VEVENT
DTSTART;TZID=UTC:20260217T170000
DTEND;TZID=UTC:20260217T170000
DTSTAMP:20260425T194657
CREATED:20251013T185441Z
LAST-MODIFIED:20260124T212855Z
UID:2905-1771347600-1771347600@fensdorf.de
SUMMARY:Karnevalsabschluss
DESCRIPTION:
URL:https://fensdorf.de/veranstaltung/karnevalsabschluss-2
LOCATION:Bürgerhaus Fensdorf
CATEGORIES:Belegungsplan,Veranstaltungen
END:VEVENT
BEGIN:VEVENT
DTSTART;TZID=UTC:20260215T141100
DTEND;TZID=UTC:20260215T141100
DTSTAMP:20260425T194657
CREATED:20251013T185402Z
LAST-MODIFIED:20260205T185257Z
UID:2903-1771164660-1771164660@fensdorf.de
SUMMARY:Kindersitzung
DESCRIPTION:
URL:https://fensdorf.de/veranstaltung/kindersitzung-2
LOCATION:Bürgerhaus Fensdorf
CATEGORIES:Belegungsplan,Veranstaltungen
END:VEVENT
BEGIN:VEVENT
DTSTART;TZID=UTC:20260214T191100
DTEND;TZID=UTC:20260214T191100
DTSTAMP:20260425T194657
CREATED:20251013T185326Z
LAST-MODIFIED:20260124T212817Z
UID:2901-1771096260-1771096260@fensdorf.de
SUMMARY:Kappensitzung
DESCRIPTION:
URL:https://fensdorf.de/veranstaltung/kappensitzung-3
LOCATION:Bürgerhaus Fensdorf
CATEGORIES:Belegungsplan,Veranstaltungen
END:VEVENT
BEGIN:VEVENT
DTSTART;TZID=UTC:20260212T103000
DTEND;TZID=UTC:20260212T103000
DTSTAMP:20260425T194657
CREATED:20260124T213404Z
LAST-MODIFIED:20260124T213442Z
UID:2993-1770892200-1770892200@fensdorf.de
SUMMARY:Altweiber
DESCRIPTION:
URL:https://fensdorf.de/veranstaltung/altweiber
LOCATION:Bürgerhaus Fensdorf
CATEGORIES:Belegungsplan,Veranstaltungen
END:VEVENT
BEGIN:VEVENT
DTSTART;TZID=UTC:20260206T190000
DTEND;TZID=UTC:20260206T190000
DTSTAMP:20260425T194657
CREATED:20260124T212546Z
LAST-MODIFIED:20260124T212947Z
UID:2986-1770404400-1770404400@fensdorf.de
SUMMARY:JHV Haubergsgenossenschaft Kleefeld
DESCRIPTION:
URL:https://fensdorf.de/veranstaltung/jhv-haubergsgenossenschaft-kleefeld
CATEGORIES:Belegungsplan
END:VEVENT
BEGIN:VEVENT
DTSTART;TZID=UTC:20260204T151100
DTEND;TZID=UTC:20260204T151100
DTSTAMP:20260425T194657
CREATED:20260124T212403Z
LAST-MODIFIED:20260126T162030Z
UID:2984-1770217860-1770217860@fensdorf.de
SUMMARY:Frauensitzung KFD
DESCRIPTION:
URL:https://fensdorf.de/veranstaltung/frauensitzung-kfd
CATEGORIES:Belegungsplan
END:VEVENT
BEGIN:VEVENT
DTSTART;TZID=UTC:20260131T153300
DTEND;TZID=UTC:20260131T153300
DTSTAMP:20260425T194657
CREATED:20251013T185247Z
LAST-MODIFIED:20260124T212739Z
UID:2899-1769873580-1769873580@fensdorf.de
SUMMARY:Frauensitzung
DESCRIPTION:
URL:https://fensdorf.de/veranstaltung/frauensitzung-2
LOCATION:Bürgerhaus Fensdorf
CATEGORIES:Belegungsplan,Veranstaltungen
END:VEVENT
BEGIN:VEVENT
DTSTART;VALUE=DATE:20260124
DTEND;VALUE=DATE:20260125
DTSTAMP:20260425T194657
CREATED:20260124T212010Z
LAST-MODIFIED:20260124T212102Z
UID:2979-1769212800-1769299199@fensdorf.de
SUMMARY:Vermietung
DESCRIPTION: 
URL:https://fensdorf.de/veranstaltung/belegung
CATEGORIES:Belegungsplan
END:VEVENT
BEGIN:VEVENT
DTSTART;TZID=UTC:20260117T100000
DTEND;TZID=UTC:20260117T100000
DTSTAMP:20260425T194657
CREATED:20260125T103042Z
LAST-MODIFIED:20260125T103042Z
UID:3036-1768644000-1768644000@fensdorf.de
SUMMARY:Kartenvorverkauf Kappensitzung
DESCRIPTION:
URL:https://fensdorf.de/veranstaltung/kartenvorverkauf-kappensitzung
LOCATION:Gebiet der Ortsgemeinde
CATEGORIES:Veranstaltungen
END:VEVENT
BEGIN:VEVENT
DTSTART;TZID=UTC:20260111T140000
DTEND;TZID=UTC:20260111T160000
DTSTAMP:20260425T194657
CREATED:20260125T103247Z
LAST-MODIFIED:20260125T103247Z
UID:3038-1768140000-1768147200@fensdorf.de
SUMMARY:Sternsingeraktion der Frauengemeinschaft
DESCRIPTION:
URL:https://fensdorf.de/veranstaltung/sternsingeraktion-der-frauengemeinschaft
LOCATION:Bürgerhaus Fensdorf
CATEGORIES:Belegungsplan,Veranstaltungen
END:VEVENT
BEGIN:VEVENT
DTSTART;TZID=UTC:20260104T140000
DTEND;TZID=UTC:20260104T160000
DTSTAMP:20260425T194657
CREATED:20260125T102928Z
LAST-MODIFIED:20260125T103130Z
UID:3034-1767535200-1767542400@fensdorf.de
SUMMARY:Kartenvorverkauf Frauensitzung
DESCRIPTION:
URL:https://fensdorf.de/veranstaltung/kartenvorverkauf-frauensitzung
LOCATION:Bürgerhaus Fensdorf
CATEGORIES:Belegungsplan,Veranstaltungen
END:VEVENT
BEGIN:VEVENT
DTSTART;TZID=UTC:20251221T140000
DTEND;TZID=UTC:20251221T140000
DTSTAMP:20260425T194657
CREATED:20251013T185149Z
LAST-MODIFIED:20251112T180311Z
UID:2897-1766325600-1766325600@fensdorf.de
SUMMARY:Weihnachtsmarkt
DESCRIPTION:
URL:https://fensdorf.de/veranstaltung/weihnachtsmarkt
LOCATION:Bürgerhaus Fensdorf
END:VEVENT
BEGIN:VEVENT
DTSTART;TZID=UTC:20251219T180000
DTEND;TZID=UTC:20251219T180000
DTSTAMP:20260425T194657
CREATED:20251104T163743Z
LAST-MODIFIED:20251104T163743Z
UID:2922-1766167200-1766167200@fensdorf.de
SUMMARY:Adventszauber
DESCRIPTION:
URL:https://fensdorf.de/veranstaltung/adventszauber-2
LOCATION:Bürgerhaus Fensdorf
END:VEVENT
BEGIN:VEVENT
DTSTART;TZID=UTC:20251212T180000
DTEND;TZID=UTC:20251212T180000
DTSTAMP:20260425T194657
CREATED:20251104T163633Z
LAST-MODIFIED:20251104T163633Z
UID:2918-1765562400-1765562400@fensdorf.de
SUMMARY:Adventszauber
DESCRIPTION:
URL:https://fensdorf.de/veranstaltung/adventszauber
LOCATION:Bürgerhaus Fensdorf
END:VEVENT
BEGIN:VEVENT
DTSTART;TZID=UTC:20251206T103000
DTEND;TZID=UTC:20251206T103000
DTSTAMP:20260425T194657
CREATED:20251007T173418Z
LAST-MODIFIED:20251007T174010Z
UID:2883-1765017000-1765017000@fensdorf.de
SUMMARY:Männerfrühstück
DESCRIPTION:
URL:https://fensdorf.de/veranstaltung/maennerfruehstueck-3
LOCATION:Bürgerhaus Fensdorf
END:VEVENT
BEGIN:VEVENT
DTSTART;TZID=UTC:20251205T180000
DTEND;TZID=UTC:20251205T180000
DTSTAMP:20260425T194657
CREATED:20251127T181319Z
LAST-MODIFIED:20251127T181319Z
UID:2931-1764957600-1764957600@fensdorf.de
SUMMARY:Glühweinverkauf der Prinzengarde Fensdorf
DESCRIPTION:
URL:https://fensdorf.de/veranstaltung/gluehweinverkauf-der-prinzengarde-fensdorf
LOCATION:Bürgerhaus Fensdorf
END:VEVENT
BEGIN:VEVENT
DTSTART;TZID=UTC:20251119T193000
DTEND;TZID=UTC:20251119T193000
DTSTAMP:20260425T194657
CREATED:20251015T162121Z
LAST-MODIFIED:20251015T162121Z
UID:2911-1763580600-1763580600@fensdorf.de
SUMMARY:Jahreshauptversammlung DJK Fensdorf
DESCRIPTION:
URL:https://fensdorf.de/veranstaltung/jahreshauptversammlung-djk-fensdorf-2
LOCATION:Sportlerheim Fensdorf
END:VEVENT
BEGIN:VEVENT
DTSTART;TZID=UTC:20251116T090000
DTEND;TZID=UTC:20251116T090000
DTSTAMP:20260425T194657
CREATED:20251013T184818Z
LAST-MODIFIED:20251013T184826Z
UID:2891-1763283600-1763283600@fensdorf.de
SUMMARY:Gedenkfeier zum Volkstrauertag
DESCRIPTION:Die Gedenkfeier zum Volkstrauertag findet am Sonntag\, den 16. November 2025\, um 09:00 Uhr an der Gedenkstätte in der Friedhofshalle statt. \nAn der feierlichen Gestaltung beteiligen sich der Musikverein Brunken\, der Kirchenchor „Cäcilia“ Gebhardshain sowie die örtlichen Vereine. Die Ehrenwache übernimmt der Löschzug Steinebach. Herzliche Einladung zu einer halben Stunde des Gedenkens und der Besinnung.
URL:https://fensdorf.de/veranstaltung/gedenkfeier-zum-volkstrauertag
LOCATION:Friedhof
END:VEVENT
END:VCALENDAR